BEGIN:VCALENDAR
VERSION:2.0
PRODID:-//Mountain Valley Neighborhood - North Carolina - ECPv6.15.20//NONSGML v1.0//EN
CALSCALE:GREGORIAN
METHOD:PUBLISH
X-WR-CALNAME:Mountain Valley Neighborhood - North Carolina
X-ORIGINAL-URL:https://mountainvalleyneighborhood.com
X-WR-CALDESC:Events for Mountain Valley Neighborhood - North Carolina
REFRESH-INTERVAL;VALUE=DURATION:PT1H
X-Robots-Tag:noindex
X-PUBLISHED-TTL:PT1H
BEGIN:VTIMEZONE
TZID:America/New_York
BEGIN:DAYLIGHT
TZOFFSETFROM:-0500
TZOFFSETTO:-0400
TZNAME:EDT
DTSTART:20200308T070000
END:DAYLIGHT
BEGIN:STANDARD
TZOFFSETFROM:-0400
TZOFFSETTO:-0500
TZNAME:EST
DTSTART:20201101T060000
END:STANDARD
BEGIN:DAYLIGHT
TZOFFSETFROM:-0500
TZOFFSETTO:-0400
TZNAME:EDT
DTSTART:20210314T070000
END:DAYLIGHT
BEGIN:STANDARD
TZOFFSETFROM:-0400
TZOFFSETTO:-0500
TZNAME:EST
DTSTART:20211107T060000
END:STANDARD
BEGIN:DAYLIGHT
TZOFFSETFROM:-0500
TZOFFSETTO:-0400
TZNAME:EDT
DTSTART:20220313T070000
END:DAYLIGHT
BEGIN:STANDARD
TZOFFSETFROM:-0400
TZOFFSETTO:-0500
TZNAME:EST
DTSTART:20221106T060000
END:STANDARD
BEGIN:DAYLIGHT
TZOFFSETFROM:-0500
TZOFFSETTO:-0400
TZNAME:EDT
DTSTART:20230312T070000
END:DAYLIGHT
BEGIN:STANDARD
TZOFFSETFROM:-0400
TZOFFSETTO:-0500
TZNAME:EST
DTSTART:20231105T060000
END:STANDARD
BEGIN:DAYLIGHT
TZOFFSETFROM:-0500
TZOFFSETTO:-0400
TZNAME:EDT
DTSTART:20240310T070000
END:DAYLIGHT
BEGIN:STANDARD
TZOFFSETFROM:-0400
TZOFFSETTO:-0500
TZNAME:EST
DTSTART:20241103T060000
END:STANDARD
BEGIN:DAYLIGHT
TZOFFSETFROM:-0500
TZOFFSETTO:-0400
TZNAME:EDT
DTSTART:20250309T070000
END:DAYLIGHT
BEGIN:STANDARD
TZOFFSETFROM:-0400
TZOFFSETTO:-0500
TZNAME:EST
DTSTART:20251102T060000
END:STANDARD
BEGIN:DAYLIGHT
TZOFFSETFROM:-0500
TZOFFSETTO:-0400
TZNAME:EDT
DTSTART:20260308T070000
END:DAYLIGHT
BEGIN:STANDARD
TZOFFSETFROM:-0400
TZOFFSETTO:-0500
TZNAME:EST
DTSTART:20261101T060000
END:STANDARD
END:VTIMEZONE
BEGIN:VEVENT
DTSTART;TZID=America/New_York:20251213T163000
DTEND;TZID=America/New_York:20251213T203000
DTSTAMP:20260423T123117
CREATED:20241224T172424Z
LAST-MODIFIED:20241224T172424Z
UID:2554-1765643400-1765657800@mountainvalleyneighborhood.com
SUMMARY:MV Annual Dessert Drop-In
DESCRIPTION:
URL:https://mountainvalleyneighborhood.com/event/mv-annual-dessert-drop-in/
LOCATION:North Carolina
END:VEVENT
BEGIN:VEVENT
DTSTART;TZID=America/New_York:20250620T201500
DTEND;TZID=America/New_York:20250620T230000
DTSTAMP:20260423T123117
CREATED:20250527T230900Z
LAST-MODIFIED:20250527T231004Z
UID:2680-1750450500-1750460400@mountainvalleyneighborhood.com
SUMMARY:Movie on the Mountain - Silence of the Lambs
DESCRIPTION:369 MVD
URL:https://mountainvalleyneighborhood.com/event/movie-on-the-mountain-silence-of-the-lambs/
LOCATION:Mountain Valley Subdivision\, 369 Mountain Valley Dr\, Hendersonville\, North Carolina\, 28739
END:VEVENT
BEGIN:VEVENT
DTSTART;TZID=America/New_York:20250524T203000
DTEND;TZID=America/New_York:20250524T230000
DTSTAMP:20260423T123117
CREATED:20250527T230146Z
LAST-MODIFIED:20250527T230932Z
UID:2678-1748118600-1748127600@mountainvalleyneighborhood.com
SUMMARY:Movie on the Mountain - Jaws
DESCRIPTION:369 MVD
URL:https://mountainvalleyneighborhood.com/event/movie-on-the-mountain-jaws/
LOCATION:Mountain Valley Subdivision\, 369 Mountain Valley Dr\, Hendersonville\, North Carolina\, 28739
END:VEVENT
BEGIN:VEVENT
DTSTART;VALUE=DATE:20250120
DTEND;VALUE=DATE:20250121
DTSTAMP:20260423T123117
CREATED:20230104T151337Z
LAST-MODIFIED:20240505T172336Z
UID:1875-1737331200-1737417599@mountainvalleyneighborhood.com
SUMMARY:Mountain Valley Neighborhood's Birthday
DESCRIPTION:Annually on January 20\n\n\n\n\n\nnotes\n\nDescription:The Mountain Valley neighborhood Article of Incorporation were filed on 20 January\, 1989.
URL:https://mountainvalleyneighborhood.com/event/mountain-valley-neighborhoods-birthday/
LOCATION:Mountain Valley Subdivision\, 369 Mountain Valley Dr\, Hendersonville\, North Carolina\, 28739
END:VEVENT
BEGIN:VEVENT
DTSTART;TZID=America/New_York:20241207T170000
DTEND;TZID=America/New_York:20241207T200000
DTSTAMP:20260423T123117
CREATED:20241224T172322Z
LAST-MODIFIED:20241224T172322Z
UID:2552-1733590800-1733601600@mountainvalleyneighborhood.com
SUMMARY:MV Dessert Drop-In
DESCRIPTION:
URL:https://mountainvalleyneighborhood.com/event/mv-dessert-drop-in/
LOCATION:North Carolina
END:VEVENT
BEGIN:VEVENT
DTSTART;TZID=America/New_York:20241027T160000
DTEND;TZID=America/New_York:20241027T180000
DTSTAMP:20260423T123117
CREATED:20211029T001717Z
LAST-MODIFIED:20240505T173421Z
UID:579-1730044800-1730052000@mountainvalleyneighborhood.com
SUMMARY:Halloween Scavenger Hunt
DESCRIPTION:
URL:https://mountainvalleyneighborhood.com/event/halloween-scavenger-hunt/
LOCATION:Mountain Valley Subdivision\, 369 Mountain Valley Dr\, Hendersonville\, North Carolina\, 28739
CATEGORIES:Neighbor Sponsored
END:VEVENT
BEGIN:VEVENT
DTSTART;VALUE=DATE:20241019
DTEND;VALUE=DATE:20241020
DTSTAMP:20260423T123117
CREATED:20220617T003656Z
LAST-MODIFIED:20240505T172524Z
UID:1422-1729296000-1729382399@mountainvalleyneighborhood.com
SUMMARY:HOA Annual Meeting
DESCRIPTION:Save the Date – More information to come
URL:https://mountainvalleyneighborhood.com/event/hoa-annual-meeting/
LOCATION:North Carolina
CATEGORIES:Board Events
END:VEVENT
BEGIN:VEVENT
DTSTART;TZID=America/New_York:20230111T190000
DTEND;TZID=America/New_York:20230111T210000
DTSTAMP:20260423T123117
CREATED:20230104T151150Z
LAST-MODIFIED:20230104T151150Z
UID:1873-1673463600-1673470800@mountainvalleyneighborhood.com
SUMMARY:HOA Quarterly Board Meeting
DESCRIPTION:
URL:https://mountainvalleyneighborhood.com/event/hoa-quarterly-board-meeting-2/
LOCATION:Mountain Valley Subdivision\, 369 Mountain Valley Dr\, Hendersonville\, North Carolina\, 28739
CATEGORIES:Board Events
END:VEVENT
BEGIN:VEVENT
DTSTART;TZID=America/New_York:20220825T080000
DTEND;TZID=America/New_York:20220825T170000
DTSTAMP:20260423T123117
CREATED:20220701T115959Z
LAST-MODIFIED:20220701T115959Z
UID:1443-1661414400-1661446800@mountainvalleyneighborhood.com
SUMMARY:Chattooga River Rafting
DESCRIPTION:Hi Neighbors – \nA few neighbors are putting together a rafting trip with the Nantahala Outdoor Center(NOC) to the Chattooga River. The day trip is scheduled for 25 August 2022 and we will be doing the Chattooga River Rafting: Section IV (with Lunch). https://noc.com/trips/chattooga-river-rafting-section-iv/\n\nA bit about the trip:\n \n– Chattooga Section IV is an exciting trip for any skill level\, but geared towards those looking for a higher level of adventure\, with a minimum age requirement of 12 and up.\n– this is a guided trip\, so our NOC elite guides will navigate us through more technical whitewater including the infamous Five Falls\, a 1/3 mile of Class IV-V rapids.\n– we will enjoy breaks throughout the day with swimming holes and a riverside lunch.– The Chattooga River was designated a wild and scenic river\, giving paddlers spectacular views through the entire trip.\n– Not including our drive time to and from (1hr 40 min @ way)\, the trip will last approximately 5-6 hours\, with 4 hours on the river and the rest on trip preparation and shuttle – so it will be a full day.\n\nCost – $130 per person\n\n\nAll participants must be at least 12 years of age or older and capable of carrying rafts & gear 1/4 mile to and from the river on an inclined trail. While most of our guests have no prior experience\, this is a strenuous trip that does require a spirited sense of adventure. It is not recommended for those with a Body Mass Index greater than 40. For your safety\, you must be an active and effective paddler in the raft(can’t just sit in the raft)\, capable of acting on NOC guide instructions. \nAll minors (17 and under) require the presence of an adult during whitewater rafting activities. \n\n\nDepending on how much interest we get will determine car pooling arrangements. More to follow for those that show interest.\n\n\nIf you would like to participate PLEASE REPLY to this email by 6 JULY. We will be booking the trip soon after that.\n\n\nNote: this is not a Social Committee or HOA Board activity\, just some neighbors getting together for a fun adventurous day.
URL:https://mountainvalleyneighborhood.com/event/chattooga-river-rafting/
LOCATION:Nantahala Outdoor Center\, 851A Chattooga Ridge Rd\, Mountain Rest\, SC\, 29664
CATEGORIES:Neighbor Sponsored
END:VEVENT
BEGIN:VEVENT
DTSTART;VALUE=DATE:20220719
DTEND;VALUE=DATE:20220720
DTSTAMP:20260423T123117
CREATED:20220617T003535Z
LAST-MODIFIED:20220617T003551Z
UID:1420-1658188800-1658275199@mountainvalleyneighborhood.com
SUMMARY:HOA Quarterly Board Meeting
DESCRIPTION:
URL:https://mountainvalleyneighborhood.com/event/hoa-quarterly-board-meeting/
LOCATION:North Carolina
CATEGORIES:Board Events
END:VEVENT
BEGIN:VEVENT
DTSTART;TZID=America/New_York:20220625T200000
DTEND;TZID=America/New_York:20240511T230000
DTSTAMP:20260423T123117
CREATED:20220616T221732Z
LAST-MODIFIED:20240505T173437Z
UID:1412-1656187200-1715468400@mountainvalleyneighborhood.com
SUMMARY:Movie on the Mountain - Anatomy of a Fall
DESCRIPTION:Pre-show begins at 8:15pm on May 11th at 369 MVD and will be projected on a 20′ screen. BYOB…..bring your own Blanket\, Beverages\, chairs and popcorn Bowl! Free popcorn and movie candy available!! \nWe hope to see some new faces as we have had many new neighbors move into the neighborhood lately. \nLooking forward to a fun night with everyone. \nNote: this is not a MV sponsored event
URL:https://mountainvalleyneighborhood.com/event/movie-on-the-mountain/
LOCATION:Mountain Valley Subdivision\, 369 Mountain Valley Dr\, Hendersonville\, North Carolina\, 28739
CATEGORIES:Neighbor Sponsored
END:VEVENT
BEGIN:VEVENT
DTSTART;VALUE=DATE:20220614
DTEND;VALUE=DATE:20220615
DTSTAMP:20260423T123117
CREATED:20220617T105423Z
LAST-MODIFIED:20220617T133847Z
UID:1424-1655164800-1655251199@mountainvalleyneighborhood.com
SUMMARY:HOA By-Laws Review Ad-Hoc Committee Meeting
DESCRIPTION:
URL:https://mountainvalleyneighborhood.com/event/by-laws-review-ad-hoc-committee-meeting/
LOCATION:North Carolina
CATEGORIES:Board Events
END:VEVENT
BEGIN:VEVENT
DTSTART;TZID=America/New_York:20211212T170000
DTEND;TZID=America/New_York:20211212T200000
DTSTAMP:20260423T123117
CREATED:20211113T220043Z
LAST-MODIFIED:20211114T144542Z
UID:1095-1639328400-1639339200@mountainvalleyneighborhood.com
SUMMARY:Light up Mountain Valley
DESCRIPTION:Join us as we continue to celebrate the Holiday Season as we illuminate our beautiful community.On behalf of the Social Committee we will provide each household with a festive luminary bag and flameless tea light that we will place near your mailbox. The bags will be delivered and light your candle on Thursday\, December 9th at 5 pm and will ensure they are lit for 4 consecutive nights\, thanks to the elves we’ve recruited to help! The bags are waterproof and will be collected for use again next year. \nIf you would like more information reach out to Anne Keller\, Jennifer Watkins or Sara Morgan.
URL:https://mountainvalleyneighborhood.com/event/light-up-mountain-valley-4/
LOCATION:Mountain Valley Subdivision\, 369 Mountain Valley Dr\, Hendersonville\, North Carolina\, 28739
CATEGORIES:Social Committee
END:VEVENT
BEGIN:VEVENT
DTSTART;TZID=America/New_York:20211211T170000
DTEND;TZID=America/New_York:20211211T200000
DTSTAMP:20260423T123117
CREATED:20211113T230532Z
LAST-MODIFIED:20211114T144616Z
UID:1093-1639242000-1639252800@mountainvalleyneighborhood.com
SUMMARY:Light up Mountain Valley
DESCRIPTION:Join us as we continue to celebrate the Holiday Season as we illuminate our beautiful community.On behalf of the Social Committee we will provide each household with a festive luminary bag and flameless tea light that we will place near your mailbox. The bags will be delivered and light your candle on Thursday\, December 9th at 5 pm and will ensure they are lit for 4 consecutive nights\, thanks to the elves we’ve recruited to help! The bags are waterproof and will be collected for use again next year. \nIf you would like more information reach out to Anne Keller\, Jennifer Watkins or Sara Morgan.
URL:https://mountainvalleyneighborhood.com/event/light-up-mountain-valley-3/
LOCATION:Mountain Valley Subdivision\, 369 Mountain Valley Dr\, Hendersonville\, North Carolina\, 28739
CATEGORIES:Social Committee
END:VEVENT
BEGIN:VEVENT
DTSTART;TZID=America/New_York:20211210T170000
DTEND;TZID=America/New_York:20211210T200000
DTSTAMP:20260423T123117
CREATED:20211113T230415Z
LAST-MODIFIED:20211114T144640Z
UID:1091-1639155600-1639166400@mountainvalleyneighborhood.com
SUMMARY:Light up Mountain Valley
DESCRIPTION:Join us as we continue to celebrate the Holiday Season as we illuminate our beautiful community.On behalf of the Social Committee we will provide each household with a festive luminary bag and flameless tea light that we will place near your mailbox. The bags will be delivered and light your candle on Thursday\, December 9th at 5 pm and will ensure they are lit for 4 consecutive nights\, thanks to the elves we’ve recruited to help! The bags are waterproof and will be collected for use again next year. \nIf you would like more information reach out to Anne Keller\, Jennifer Watkins or Sara Morgan.
URL:https://mountainvalleyneighborhood.com/event/light-up-mountain-valley-2/
LOCATION:Mountain Valley Subdivision\, 369 Mountain Valley Dr\, Hendersonville\, North Carolina\, 28739
CATEGORIES:Social Committee
END:VEVENT
BEGIN:VEVENT
DTSTART;TZID=America/New_York:20211209T170000
DTEND;TZID=America/New_York:20211209T200000
DTSTAMP:20260423T123117
CREATED:20211113T230319Z
LAST-MODIFIED:20211114T144702Z
UID:1089-1639069200-1639080000@mountainvalleyneighborhood.com
SUMMARY:Light up Mountain Valley
DESCRIPTION:Join us as we continue to celebrate the Holiday Season as we illuminate our beautiful community.On behalf of the Social Committee we will provide each household with a festive luminary bag and flameless tea light that we will place near your mailbox. The bags will be delivered and light your candle on Thursday\, December 9th at 5 pm and will ensure they are lit for 4 consecutive nights\, thanks to the elves we’ve recruited to help! The bags are waterproof and will be collected for use again next year. \nIf you would like more information reach out to Anne Keller\, Jennifer Watkins or Sara Morgan.
URL:https://mountainvalleyneighborhood.com/event/light-up-mountain-valley/
LOCATION:Mountain Valley Subdivision\, 369 Mountain Valley Dr\, Hendersonville\, North Carolina\, 28739
CATEGORIES:Social Committee
END:VEVENT
BEGIN:VEVENT
DTSTART;TZID=America/New_York:20211207T093000
DTEND;TZID=America/New_York:20211207T113000
DTSTAMP:20260423T123117
CREATED:20211029T142523Z
LAST-MODIFIED:20211029T142523Z
UID:602-1638869400-1638876600@mountainvalleyneighborhood.com
SUMMARY:MV Ladies Bible Study
DESCRIPTION:
URL:https://mountainvalleyneighborhood.com/event/mv-ladies-bible-study-5/
LOCATION:Mountain Valley Subdivision\, 369 Mountain Valley Dr\, Hendersonville\, North Carolina\, 28739
CATEGORIES:Neighbor Sponsored
END:VEVENT
BEGIN:VEVENT
DTSTART;TZID=America/New_York:20211205T130000
DTEND;TZID=America/New_York:20211205T150000
DTSTAMP:20260423T123117
CREATED:20211113T225822Z
LAST-MODIFIED:20211114T061625Z
UID:1087-1638709200-1638716400@mountainvalleyneighborhood.com
SUMMARY:MV Toys for Tots Drop-off
DESCRIPTION:Sunday December 5\, 2021 \nFrom 1-3 pm \nOutside of 365 Mountain Valley Drive \nIf you have any questions or would like more info contact Bridget Healy
URL:https://mountainvalleyneighborhood.com/event/mv-toys-for-tots-drop-off/
LOCATION:North Carolina
CATEGORIES:Neighbor Sponsored
END:VEVENT
BEGIN:VEVENT
DTSTART;TZID=America/New_York:20211130T093000
DTEND;TZID=America/New_York:20211130T113000
DTSTAMP:20260423T123117
CREATED:20211029T142346Z
LAST-MODIFIED:20211029T142346Z
UID:600-1638264600-1638271800@mountainvalleyneighborhood.com
SUMMARY:MV Ladies Bible Study
DESCRIPTION:
URL:https://mountainvalleyneighborhood.com/event/mv-ladies-bible-study-4/
LOCATION:Mountain Valley Subdivision\, 369 Mountain Valley Dr\, Hendersonville\, North Carolina\, 28739
CATEGORIES:Neighbor Sponsored
END:VEVENT
BEGIN:VEVENT
DTSTART;TZID=America/New_York:20211123T093000
DTEND;TZID=America/New_York:20211123T113000
DTSTAMP:20260423T123117
CREATED:20211029T142251Z
LAST-MODIFIED:20211029T142409Z
UID:598-1637659800-1637667000@mountainvalleyneighborhood.com
SUMMARY:MV Ladies Bible Study
DESCRIPTION:
URL:https://mountainvalleyneighborhood.com/event/mv-ladies-bible-study-3/
LOCATION:Mountain Valley Subdivision\, 369 Mountain Valley Dr\, Hendersonville\, North Carolina\, 28739
CATEGORIES:Neighbor Sponsored
END:VEVENT
BEGIN:VEVENT
DTSTART;TZID=America/New_York:20211116T093000
DTEND;TZID=America/New_York:20211116T113000
DTSTAMP:20260423T123117
CREATED:20211029T142143Z
LAST-MODIFIED:20211029T142143Z
UID:596-1637055000-1637062200@mountainvalleyneighborhood.com
SUMMARY:MV Ladies Bible Study
DESCRIPTION:
URL:https://mountainvalleyneighborhood.com/event/mv-ladies-bible-study-2/
LOCATION:Mountain Valley Subdivision\, 369 Mountain Valley Dr\, Hendersonville\, North Carolina\, 28739
CATEGORIES:Neighbor Sponsored
END:VEVENT
BEGIN:VEVENT
DTSTART;TZID=America/New_York:20211113T100000
DTEND;TZID=America/New_York:20211113T123000
DTSTAMP:20260423T123117
CREATED:20211107T180503Z
LAST-MODIFIED:20211107T180503Z
UID:867-1636797600-1636806600@mountainvalleyneighborhood.com
SUMMARY:Mountain Valley Fall Cleanup
DESCRIPTION:The annual neighbor participation in Fall Clean Up will be Saturday November 13th at 10am.\nThis will just be a mulch spreading event as all prep work will have already been done by the Beautification Committee.\nWe will be spreading 100 bags of mulch at the entrance & Kalmia Ct.  Bags of mulch will be pre-placed in the beds.\nSome lifting will be required to open & dump the mulch for spreading.  Please bring cutting tool\, rake & work gloves.  Do not cover over plants that are evergreen.\nPlease park across Cummings Road.\nMasks are discretionary as this is an outdoor event with varying social distances.\nNotice of rescheduling due to rain will be sent by 8am.\nWe are usually done before noon. Thank you in advance for your help! \nCarol Walp\nBeautification Committee Chairman\n326 MVD
URL:https://mountainvalleyneighborhood.com/event/mountain-valley-fall-cleanup/
LOCATION:Mountain Valley Subdivision\, 369 Mountain Valley Dr\, Hendersonville\, North Carolina\, 28739
CATEGORIES:Beautification Committee
END:VEVENT
BEGIN:VEVENT
DTSTART;TZID=America/New_York:20211102T093000
DTEND;TZID=America/New_York:20211102T113000
DTSTAMP:20260423T123117
CREATED:20211029T141905Z
LAST-MODIFIED:20211029T141905Z
UID:594-1635845400-1635852600@mountainvalleyneighborhood.com
SUMMARY:MV Ladies Bible Study
DESCRIPTION:
URL:https://mountainvalleyneighborhood.com/event/mv-ladies-bible-study/
LOCATION:Mountain Valley Subdivision\, 369 Mountain Valley Dr\, Hendersonville\, North Carolina\, 28739
CATEGORIES:Neighbor Sponsored
END:VEVENT
BEGIN:VEVENT
DTSTART;TZID=America/New_York:20211030T100000
DTEND;TZID=America/New_York:20211030T120000
DTSTAMP:20260423T123117
CREATED:20211029T001352Z
LAST-MODIFIED:20211029T160231Z
UID:575-1635588000-1635595200@mountainvalleyneighborhood.com
SUMMARY:Annual Meeting / Town Hall
DESCRIPTION:
URL:https://mountainvalleyneighborhood.com/event/annual-meeting/
LOCATION:Etowah Lions Club\, 447 Etowah School Rd\, Hendersonville\, NC\, 28739\, United States
CATEGORIES:Board Events
END:VEVENT
END:VCALENDAR